BEGIN:VCALENDAR
VERSION:2.0
PRODID:-//Willow Glen Athletic Boosters - ECPv6.15.20//NONSGML v1.0//EN
CALSCALE:GREGORIAN
METHOD:PUBLISH
X-WR-CALNAME:Willow Glen Athletic Boosters
X-ORIGINAL-URL:https://wgab.org
X-WR-CALDESC:Events for Willow Glen Athletic Boosters
REFRESH-INTERVAL;VALUE=DURATION:PT1H
X-Robots-Tag:noindex
X-PUBLISHED-TTL:PT1H
BEGIN:VTIMEZONE
TZID:America/Los_Angeles
BEGIN:DAYLIGHT
TZOFFSETFROM:-0800
TZOFFSETTO:-0700
TZNAME:PDT
DTSTART:20250309T100000
END:DAYLIGHT
BEGIN:STANDARD
TZOFFSETFROM:-0700
TZOFFSETTO:-0800
TZNAME:PST
DTSTART:20251102T090000
END:STANDARD
BEGIN:DAYLIGHT
TZOFFSETFROM:-0800
TZOFFSETTO:-0700
TZNAME:PDT
DTSTART:20260308T100000
END:DAYLIGHT
BEGIN:STANDARD
TZOFFSETFROM:-0700
TZOFFSETTO:-0800
TZNAME:PST
DTSTART:20261101T090000
END:STANDARD
BEGIN:DAYLIGHT
TZOFFSETFROM:-0800
TZOFFSETTO:-0700
TZNAME:PDT
DTSTART:20270314T100000
END:DAYLIGHT
BEGIN:STANDARD
TZOFFSETFROM:-0700
TZOFFSETTO:-0800
TZNAME:PST
DTSTART:20271107T090000
END:STANDARD
END:VTIMEZONE
BEGIN:VEVENT
DTSTART;VALUE=DATE:20260517
DTEND;VALUE=DATE:20260518
DTSTAMP:20260420T044523
CREATED:20251203T180558Z
LAST-MODIFIED:20260408T225201Z
UID:1323-1778976000-1779062399@wgab.org
SUMMARY:Willow Glen Golf Tournament
DESCRIPTION:Willow Glen Athletic Boosters – Who We Are & What We Do \nAthletic Boosters provides financial and moral support to Willow Glen Middle School and High School athletes. We work with the Athletic Directors to fill the needs of all athletic programs and facility upgrades.  \nAt our main event\, the DubG Golf Classic\, we expect to welcome 100 golfers and raise more than $50\,000 to support student-athletes at Willow Glen High School and Willow Glen Middle School. This event helps to fund our Athletic Trainer\, an important resource that helps keep our athletes safe and healthy. The event also provides funding to help launch and support sports programs at both the middle school and high school. \nDubG Golf Classic Participant Registration  \nJoin us for a premier 18-hole tournament and fundraising event dedicated to supporting the Willow Glen Athletic Boosters. Whether you’re chasing a birdie or just enjoying the fairways\, your participation directly fuels our student-athletes’ success. Transition from the course to the clubhouse for a catered lunch\, awards ceremony\, and auction!  \n\n\nEvent Details\n📅 Sunday\, May 17\, 2026\n📍 Coyote Creek Golf Club – 1 Coyote Creek Golf Drive\, Morgan Hill\, CA 95037\n⏰ 8:30 AM Shotgun Start\n🍽 Lunch & Auction at 2:00 pm (approximately) \n\nRegistration Options \n\n$250 – Single Golfer\n$1\,000 – Foursome\n$50 – Lunch & Auction Only\n\n\n\nGolf Registration includes cart\, breakfast and lunch\n\n\nImportant Dates\nRegister by Friday\, May 1\, 2026 \nQuestions?\n📧 Email Lori at golf@wgab.org \n\nTo sign up for the DubG Golf Classic\, you can choose one of two ways to register: \nSign Up Form \n  \nBy Mail: Print out the registration form and mail it with your payment to: \nWGAB \n2001 Cottle Rd \nSan Jose\, CA 95125 \nPlease make all checks payable to WGAB. \n  \n  \n 
URL:https://wgab.org/event/willow-glen-golf-tournament/
LOCATION:Coyote Creek Golf Club\, 1 Coyote Creek Golf Drive\, Morgan Hill\, CA\, 95037
CATEGORIES:Golf Tournament
ATTACH;FMTTYPE=image/png:https://wgab.org/wp-content/uploads/2025/01/Add-a-heading.png
END:VEVENT
END:VCALENDAR