BEGIN:VCALENDAR
VERSION:2.0
PRODID:-//Willow Glen Athletic Boosters - ECPv6.15.20//NONSGML v1.0//EN
CALSCALE:GREGORIAN
METHOD:PUBLISH
X-WR-CALNAME:Willow Glen Athletic Boosters
X-ORIGINAL-URL:https://wgab.org
X-WR-CALDESC:Events for Willow Glen Athletic Boosters
REFRESH-INTERVAL;VALUE=DURATION:PT1H
X-Robots-Tag:noindex
X-PUBLISHED-TTL:PT1H
BEGIN:VTIMEZONE
TZID:America/Los_Angeles
BEGIN:DAYLIGHT
TZOFFSETFROM:-0800
TZOFFSETTO:-0700
TZNAME:PDT
DTSTART:20230312T100000
END:DAYLIGHT
BEGIN:STANDARD
TZOFFSETFROM:-0700
TZOFFSETTO:-0800
TZNAME:PST
DTSTART:20231105T090000
END:STANDARD
BEGIN:DAYLIGHT
TZOFFSETFROM:-0800
TZOFFSETTO:-0700
TZNAME:PDT
DTSTART:20240310T100000
END:DAYLIGHT
BEGIN:STANDARD
TZOFFSETFROM:-0700
TZOFFSETTO:-0800
TZNAME:PST
DTSTART:20241103T090000
END:STANDARD
BEGIN:DAYLIGHT
TZOFFSETFROM:-0800
TZOFFSETTO:-0700
TZNAME:PDT
DTSTART:20250309T100000
END:DAYLIGHT
BEGIN:STANDARD
TZOFFSETFROM:-0700
TZOFFSETTO:-0800
TZNAME:PST
DTSTART:20251102T090000
END:STANDARD
END:VTIMEZONE
BEGIN:VTIMEZONE
TZID:UTC
BEGIN:STANDARD
TZOFFSETFROM:+0000
TZOFFSETTO:+0000
TZNAME:UTC
DTSTART:20220101T000000
END:STANDARD
END:VTIMEZONE
BEGIN:VEVENT
DTSTART;TZID=America/Los_Angeles:20240110T180000
DTEND;TZID=America/Los_Angeles:20240110T190000
DTSTAMP:20260420T044209
CREATED:20231210T010929Z
LAST-MODIFIED:20240109T221915Z
UID:741-1704909600-1704913200@wgab.org
SUMMARY:General Membership Meeting
DESCRIPTION:Information regarding this General Membership Meeting will be updated in the near future.
URL:https://wgab.org/event/general-membership-meeting-6/
CATEGORIES:Membership
ATTACH;FMTTYPE=image/jpeg:https://wgab.org/wp-content/uploads/2023/08/Willow-Glen-Middle-School.jpg
END:VEVENT
BEGIN:VEVENT
DTSTART;TZID=UTC:20231108T183000
DTEND;TZID=UTC:20231108T183000
DTSTAMP:20260420T044209
CREATED:20230809T235209Z
LAST-MODIFIED:20231107T161711Z
UID:569-1699468200-1699468200@wgab.org
SUMMARY:General Membership Meeting
DESCRIPTION:Information regarding this General Membership Meeting will be updated in the near future.
URL:https://wgab.org/event/general-membership-meeting-4/
CATEGORIES:Membership
END:VEVENT
BEGIN:VEVENT
DTSTART;TZID=UTC:20231011T183000
DTEND;TZID=UTC:20231011T183000
DTSTAMP:20260420T044209
CREATED:20230809T233550Z
LAST-MODIFIED:20230830T011454Z
UID:559-1697049000-1697049000@wgab.org
SUMMARY:General Membership Meeting
DESCRIPTION:Information regarding this General Membership Meeting will be updated in the near future.
URL:https://wgab.org/event/general-membership-meeting-3/
CATEGORIES:Membership
END:VEVENT
BEGIN:VEVENT
DTSTART;TZID=UTC:20230913T183000
DTEND;TZID=UTC:20230913T193000
DTSTAMP:20260420T044209
CREATED:20230629T061810Z
LAST-MODIFIED:20230830T011513Z
UID:472-1694629800-1694633400@wgab.org
SUMMARY:General Membership Meeting
DESCRIPTION:Information regarding this General Membership Meeting will be updated in the near future.
URL:https://wgab.org/event/general-membership-meeting-2/
CATEGORIES:Membership
ATTACH;FMTTYPE=image/jpeg:https://wgab.org/wp-content/uploads/2023/06/Boosters1.jpg
END:VEVENT
END:VCALENDAR