BEGIN:VCALENDAR
VERSION:2.0
PRODID:-//Willow Glen Athletic Boosters - ECPv6.15.20//NONSGML v1.0//EN
CALSCALE:GREGORIAN
METHOD:PUBLISH
X-WR-CALNAME:Willow Glen Athletic Boosters
X-ORIGINAL-URL:https://wgab.org
X-WR-CALDESC:Events for Willow Glen Athletic Boosters
REFRESH-INTERVAL;VALUE=DURATION:PT1H
X-Robots-Tag:noindex
X-PUBLISHED-TTL:PT1H
BEGIN:VTIMEZONE
TZID:America/Los_Angeles
BEGIN:DAYLIGHT
TZOFFSETFROM:-0800
TZOFFSETTO:-0700
TZNAME:PDT
DTSTART:20240310T100000
END:DAYLIGHT
BEGIN:STANDARD
TZOFFSETFROM:-0700
TZOFFSETTO:-0800
TZNAME:PST
DTSTART:20241103T090000
END:STANDARD
BEGIN:DAYLIGHT
TZOFFSETFROM:-0800
TZOFFSETTO:-0700
TZNAME:PDT
DTSTART:20250309T100000
END:DAYLIGHT
BEGIN:STANDARD
TZOFFSETFROM:-0700
TZOFFSETTO:-0800
TZNAME:PST
DTSTART:20251102T090000
END:STANDARD
BEGIN:DAYLIGHT
TZOFFSETFROM:-0800
TZOFFSETTO:-0700
TZNAME:PDT
DTSTART:20260308T100000
END:DAYLIGHT
BEGIN:STANDARD
TZOFFSETFROM:-0700
TZOFFSETTO:-0800
TZNAME:PST
DTSTART:20261101T090000
END:STANDARD
END:VTIMEZONE
BEGIN:VEVENT
DTSTART;TZID=America/Los_Angeles:20250212T183000
DTEND;TZID=America/Los_Angeles:20250212T193000
DTSTAMP:20260425T041143
CREATED:20250107T013603Z
LAST-MODIFIED:20250107T205153Z
UID:1048-1739385000-1739388600@wgab.org
SUMMARY:General Membership Meeting
DESCRIPTION:Information regarding this General Membership Meeting will be updated in the near future.
URL:https://wgab.org/event/general-membership-meeting-16/
CATEGORIES:Membership
ATTACH;FMTTYPE=image/jpeg:https://wgab.org/wp-content/uploads/2023/08/ShedSale.jpg
END:VEVENT
BEGIN:VEVENT
DTSTART;TZID=America/Los_Angeles:20250312T183000
DTEND;TZID=America/Los_Angeles:20250312T200000
DTSTAMP:20260425T041143
CREATED:20250107T013935Z
LAST-MODIFIED:20250107T013935Z
UID:1052-1741804200-1741809600@wgab.org
SUMMARY:General Membership Meeting
DESCRIPTION:Information regarding this General Membership Meeting will be updated in the near future.
URL:https://wgab.org/event/general-membership-meeting-17/
CATEGORIES:Membership
ATTACH;FMTTYPE=image/jpeg:https://wgab.org/wp-content/uploads/2023/06/Boosters1.jpg
END:VEVENT
BEGIN:VEVENT
DTSTART;TZID=America/Los_Angeles:20250416T183000
DTEND;TZID=America/Los_Angeles:20250416T193000
DTSTAMP:20260425T041143
CREATED:20250107T205353Z
LAST-MODIFIED:20250107T205353Z
UID:1058-1744828200-1744831800@wgab.org
SUMMARY:General Membership Meeting
DESCRIPTION:Information regarding this General Membership Meeting will be updated in the near future.
URL:https://wgab.org/event/general-membership-meeting-18/
CATEGORIES:Membership
ATTACH;FMTTYPE=image/jpeg:https://wgab.org/wp-content/uploads/2023/06/Boosters1.jpg
END:VEVENT
BEGIN:VEVENT
DTSTART;TZID=America/Los_Angeles:20250507T183000
DTEND;TZID=America/Los_Angeles:20250507T193000
DTSTAMP:20260425T041143
CREATED:20250107T205528Z
LAST-MODIFIED:20250508T172040Z
UID:1060-1746642600-1746646200@wgab.org
SUMMARY:General Membership Meeting
DESCRIPTION:Information regarding this General Membership Meeting will be updated in the near future.
URL:https://wgab.org/event/general-membership-meeting-19/
CATEGORIES:Membership
ATTACH;FMTTYPE=image/jpeg:https://wgab.org/wp-content/uploads/2023/06/Boosters1.jpg
END:VEVENT
END:VCALENDAR